BEGIN:VCALENDAR
VERSION:2.0
PRODID:-//Angkop - ECPv6.0.13.1//NONSGML v1.0//EN
CALSCALE:GREGORIAN
METHOD:PUBLISH
X-WR-CALNAME:Angkop
X-ORIGINAL-URL:https://angkop.org
X-WR-CALDESC:Events for Angkop
REFRESH-INTERVAL;VALUE=DURATION:PT1H
X-Robots-Tag:noindex
X-PUBLISHED-TTL:PT1H
BEGIN:VTIMEZONE
TZID:Asia/Manila
BEGIN:STANDARD
TZOFFSETFROM:+0800
TZOFFSETTO:+0800
TZNAME:PST
DTSTART:20140101T000000
END:STANDARD
END:VTIMEZONE
BEGIN:VEVENT
DTSTART;TZID=Asia/Manila:20141010T160000
DTEND;TZID=Asia/Manila:20180501T010000
DTSTAMP:20260421T114304
CREATED:20141020T094744Z
LAST-MODIFIED:20220317T064619Z
UID:71-1412956800-1525136400@angkop.org
SUMMARY:Spay and Neuter at Lancaster Cavite
DESCRIPTION:Our mission this Saturday – join us and bring your fur babies!\n\n\nOnly the first 100 pets will receive a confirmation code thru text message. Make sure that the number you will provide is a working cellphone number.\n\n\nIf the form is not filled with the proper information\, it will automatically disqualifies the registrant even if they are within the first 100. The slot will be given to the next in line who will fill the forms properly.
URL:https://angkop.org/event/spay-and-neuter-at-lancaster-cavite/
LOCATION:Lancaster Caveti City\, Lendavska 35A\, Murska Sobota\, 2000\, Slovenia
CATEGORIES:Spay and Neuter
ATTACH;FMTTYPE=image/jpeg:https://angkop.org/wp-content/uploads/2017/06/slide5.jpg
ORGANIZER;CN="Angkop%20-%20Ang%20Animal%20Ko%20Protektado":MAILTO:anganimalkoprotektado@gmail.com
END:VEVENT
END:VCALENDAR